BEGIN:VCALENDAR
VERSION:2.0
CALSCALE:GREGORIAN
PRODID:adamgibbons/ics
METHOD:PUBLISH
X-PUBLISHED-TTL:PT1H
BEGIN:VEVENT
UID:18116@offbeat.amsterdam
SUMMARY:IMPRO JAM IN DE TANKER
DTSTAMP:20260420T050655Z
DTSTART:20260420T190000Z
DTEND:20260420T210000Z
URL:https://offbeat.amsterdam/event/impro-jam-in-de-tanker
LOCATION:de Tanker in Noord - Nieuwe Leeuwarderweg 15\, 1022 BN Amsterdam
STATUS:CONFIRMED
CATEGORIES:amsterdam-noord,live,music,noorderpark,rave
END:VEVENT
END:VCALENDAR
